BEGIN:VCALENDAR
VERSION:2.0
PRODID:-//SJYA South Jersey Young Adults - ECPv6.15.20//NONSGML v1.0//EN
CALSCALE:GREGORIAN
METHOD:PUBLISH
X-WR-CALNAME:SJYA South Jersey Young Adults
X-ORIGINAL-URL:https://sjya.org
X-WR-CALDESC:Events for SJYA South Jersey Young Adults
REFRESH-INTERVAL;VALUE=DURATION:PT1H
X-Robots-Tag:noindex
X-PUBLISHED-TTL:PT1H
BEGIN:VTIMEZONE
TZID:UTC
BEGIN:STANDARD
TZOFFSETFROM:+0000
TZOFFSETTO:+0000
TZNAME:UTC
DTSTART:20200101T000000
END:STANDARD
END:VTIMEZONE
BEGIN:VEVENT
DTSTART;TZID=UTC:20221210T180000
DTEND;TZID=UTC:20221210T203000
DTSTAMP:20260424T032900
CREATED:20220928T015234Z
LAST-MODIFIED:20220928T015234Z
UID:2696-1670695200-1670704200@sjya.org
SUMMARY:The Hub - Gingerbread Christmas Hangout & Message
DESCRIPTION:We will be meeting in the main sanctuary\, having an activity time making gingerbread houses. Christmas-related drinks\, hot chocolate and others! \nConnecting young adults (ages 18-33) with Jesus and each other through authentic community\, and challenging them to believe\, belong\, and become the church. Text @coastalya to 81010 to be added to our Remind app for text updates! \nStay tuned for what we will be speaking on!
URL:https://sjya.org/event/the-hub-gingerbread-christmas-hangout-message/
LOCATION:Landmark\, 300 E 8th Street\, Ocean City\, NJ\, 08226\, United States
CATEGORIES:Fellowship & Fun,Fellowship & Message,Groups
ATTACH;FMTTYPE=image/jpeg:https://sjya.org/wp-content/uploads/2021/10/Hub.jpg
ORGANIZER;CN="The Hub":MAILTO:hello@thelandmark.church
END:VEVENT
BEGIN:VEVENT
DTSTART;TZID=UTC:20221120T150000
DTEND;TZID=UTC:20221120T190000
DTSTAMP:20260424T032900
CREATED:20221004T001427Z
LAST-MODIFIED:20221113T001727Z
UID:2699-1668956400-1668970800@sjya.org
SUMMARY:Friendsgiving & Football
DESCRIPTION:Friendsgiving – Our annual Friendsgiving dinner and football game will be Sunday\, Nov. 20th!! Details to follow but please mark your calendars 👍 \nFood sign up: https://www.signupgenius.com/go/10c0f4aa9ad2eaaf9c34-friendsgiving1
URL:https://sjya.org/event/friendsgiving-football/
LOCATION:OC Tabernacle\, 550 Wesley Ave\, Ocean City\, NJ\, 08226\, United States
CATEGORIES:Fellowship & Fun,Food
ATTACH;FMTTYPE=image/png:https://sjya.org/wp-content/uploads/2022/10/SJYA_Friendsgiving2022.png
ORGANIZER;CN="SJYA":MAILTO:southjersey.youngadults@gmail.com
END:VEVENT
BEGIN:VEVENT
DTSTART;TZID=UTC:20221029T190000
DTEND;TZID=UTC:20221029T210000
DTSTAMP:20260424T032900
CREATED:20221113T004459Z
LAST-MODIFIED:20221113T004459Z
UID:2729-1667070000-1667077200@sjya.org
SUMMARY:MPYA (Mission Point) Costume Party
DESCRIPTION:Mission Point Young Adults (MPYA) Costume Party is here!
URL:https://sjya.org/event/mpya-mission-point-costume-party/
LOCATION:SJYA\, Ocean City\, NJ\, 08226\, United States
CATEGORIES:Fellowship & Fun
ATTACH;FMTTYPE=image/jpeg:https://sjya.org/wp-content/uploads/2022/11/MPYA-Costumer-Party-2022.jpg
ORGANIZER;CN="Mission Point YA":MAILTO:info@missionpointchurch.com
END:VEVENT
BEGIN:VEVENT
DTSTART;TZID=UTC:20221008T190000
DTEND;TZID=UTC:20221008T210000
DTSTAMP:20260424T032900
CREATED:20221113T004133Z
LAST-MODIFIED:20221113T004133Z
UID:2726-1665255600-1665262800@sjya.org
SUMMARY:We Are Messengers Concert
DESCRIPTION:We Are Messengers concert – The OC Tabernacle is having a We Are Messengers concert THIS Saturday\, 7 p.m.!! See attached and go to OCTabernacle.org to purchase tickets\, $25👍
URL:https://sjya.org/event/we-are-messengers-concert/
LOCATION:OC Tabernacle\, 550 Wesley Ave\, Ocean City\, NJ\, 08226\, United States
CATEGORIES:Fellowship & Fun,Worship
ATTACH;FMTTYPE=image/jpeg:https://sjya.org/wp-content/uploads/2022/11/We-Are-Messengers-Ocean-City-Tabercacle-2022.jpg
ORGANIZER;CN="SJYA":MAILTO:southjersey.youngadults@gmail.com
END:VEVENT
BEGIN:VEVENT
DTSTART;TZID=UTC:20221006T180000
DTEND;TZID=UTC:20221006T200000
DTSTAMP:20260424T032900
CREATED:20221113T004723Z
LAST-MODIFIED:20221113T005402Z
UID:2732-1665079200-1665086400@sjya.org
SUMMARY:OG AC Restaurant Week Dinner
DESCRIPTION:Join the “OG” (Older Group\, 25-35+) for a nice dinner in AC! We’re going to American Cut!
URL:https://sjya.org/event/og-ac-restaurant-week-dinner/
LOCATION:SJYA\, Ocean City\, NJ\, 08226\, United States
CATEGORIES:Fellowship & Fun,Food
ATTACH;FMTTYPE=image/jpeg:https://sjya.org/wp-content/uploads/2022/11/OG-AC-Restaurant-Week-2022.jpg
ORGANIZER;CN="SJYA":MAILTO:southjersey.youngadults@gmail.com
END:VEVENT
BEGIN:VEVENT
DTSTART;TZID=UTC:20220903T173000
DTEND;TZID=UTC:20220903T193000
DTSTAMP:20260424T032900
CREATED:20220903T003610Z
LAST-MODIFIED:20221113T005059Z
UID:2390-1662226200-1662233400@sjya.org
SUMMARY:OG Hangout
DESCRIPTION:Come join the 25-35+ sub-group on a night out at the OC Boardwalk. Mini golf and dinner! \nWe get together once a month for activities like dinners\, game nights\, bonfires etc. \n 
URL:https://sjya.org/event/og-hangout/
LOCATION:SJYA\, Ocean City\, NJ\, 08226\, United States
CATEGORIES:Fellowship & Fun
ATTACH;FMTTYPE=image/jpeg:https://sjya.org/wp-content/uploads/2022/09/090522_OGBoardwalkHangout.jpg
ORGANIZER;CN="SJYA":MAILTO:southjersey.youngadults@gmail.com
END:VEVENT
BEGIN:VEVENT
DTSTART;TZID=UTC:20220730T160000
DTEND;TZID=UTC:20220730T180000
DTSTAMP:20260424T032900
CREATED:20220903T004225Z
LAST-MODIFIED:20220903T010043Z
UID:2394-1659196800-1659204000@sjya.org
SUMMARY:Volleyball at the Beach
DESCRIPTION:Volleyball at the beach – THIS Saturday\, we’re having volleyball at the 19th Street beach in OC! 4 to 6 p.m. and then we can walk up on the boardwalk after and get something to eat 👍 Share the attached and invite friends! Text Madison if you have any questions. \n 
URL:https://sjya.org/event/volleyball-at-the-beach/
LOCATION:SJYA\, Ocean City\, NJ\, 08226\, United States
CATEGORIES:Fellowship & Fun
ATTACH;FMTTYPE=image/jpeg:https://sjya.org/wp-content/uploads/2022/09/IMG_20220727_131056_293.jpg
ORGANIZER;CN="SJYA":MAILTO:southjersey.youngadults@gmail.com
END:VEVENT
BEGIN:VEVENT
DTSTART;TZID=UTC:20220208T183000
DTEND;TZID=UTC:20220208T203000
DTSTAMP:20260424T032900
CREATED:20220308T015532Z
LAST-MODIFIED:20220308T015532Z
UID:1940-1644345000-1644352200@sjya.org
SUMMARY:Girls Paint Night
DESCRIPTION:Come out and have fun painting at the Crafty Cakery\, Central Square\, 199 New Rod Suite 12\, Linwood\, NJ.
URL:https://sjya.org/event/girls-paint-night/
LOCATION:SJYA\, Ocean City\, NJ\, 08226\, United States
CATEGORIES:Fellowship & Fun
ATTACH;FMTTYPE=image/jpeg:https://sjya.org/wp-content/uploads/2022/03/GirlsPaintNight_020822.jpg
ORGANIZER;CN="SJYA":MAILTO:southjersey.youngadults@gmail.com
END:VEVENT
BEGIN:VEVENT
DTSTART;TZID=UTC:20220122T123000
DTEND;TZID=UTC:20220122T170000
DTSTAMP:20260424T032900
CREATED:20220118T024027Z
LAST-MODIFIED:20220118T030342Z
UID:1817-1642854600-1642870800@sjya.org
SUMMARY:OG Ice Skating & Dinner
DESCRIPTION:
URL:https://sjya.org/event/og-ice-skating-and-dinner/
LOCATION:Atlantic City Skate Zone\, 501 N Albany Ave\, Atlantic City\,\, NJ\, 08401\, United States
CATEGORIES:Fellowship & Fun,Food
ATTACH;FMTTYPE=image/jpeg:https://sjya.org/wp-content/uploads/2022/01/IceSkating.jpg
ORGANIZER;CN="SJYA":MAILTO:southjersey.youngadults@gmail.com
END:VEVENT
BEGIN:VEVENT
DTSTART;TZID=UTC:20211218T183000
DTEND;TZID=UTC:20211218T210000
DTSTAMP:20260424T032900
CREATED:20211110T031302Z
LAST-MODIFIED:20220118T032212Z
UID:1789-1639852200-1639861200@sjya.org
SUMMARY:Coram Deo - Christmas Extravaganza
DESCRIPTION:20-30 somethings young adult group meeting the 3rd Saturday of every month at Sojourn Community Church in Egg Harbor City. Join us for prayer\, worship and fellowship. Join the GroupMe text chat for more information. \nCome out to a big Christmas Extravaganza in place of Coram Deo’s usual meeting! See flyer and invite friends!! So much fun stuff included\, really the ultimate Christmas party 😂👍 \nUgly sweaters and baking cookies for the cookie contest highly recommended 😁 We are picking up ChickFilA too! See you there \nhttps://groupme.com/join_group/65456268/7SOEnZJE
URL:https://sjya.org/event/coram-deo-2/
LOCATION:Sojourn Community Church\, 247 N Genoa Avenue\, Egg Harbor City\, NJ\, 08215\, United States
CATEGORIES:Fellowship & Fun,Food,Groups
ATTACH;FMTTYPE=image/png:https://sjya.org/wp-content/uploads/2021/10/SojournChristmas.png
END:VEVENT
BEGIN:VEVENT
DTSTART;TZID=UTC:20211212T170000
DTEND;TZID=UTC:20211212T200000
DTSTAMP:20260424T032900
CREATED:20220118T031907Z
LAST-MODIFIED:20220118T031907Z
UID:1842-1639328400-1639339200@sjya.org
SUMMARY:SJYA Christmas Party
DESCRIPTION:We are having a SJYA Christmas get together at Mike G.’s house in Absecon. His family does a huge light show outside the house every year. Bring appetizers/finger foods to share (no dinner foods will be served\, so we need everyone to bring something of substance if you are hungry! :)). 5 to 8 p.m. Details in flyer!\nALSO – Mike and Madison are collecting money to buy toys for a local family in need. See their Venmo details in flyer!
URL:https://sjya.org/event/sjya-christmas-party/
LOCATION:SJYA\, Ocean City\, NJ\, 08226\, United States
CATEGORIES:Fellowship & Fun,Food
ATTACH;FMTTYPE=image/jpeg:https://sjya.org/wp-content/uploads/2021/10/SJYA_Christmas.jpg
ORGANIZER;CN="SJYA":MAILTO:southjersey.youngadults@gmail.com
END:VEVENT
BEGIN:VEVENT
DTSTART;TZID=UTC:20211121T140000
DTEND;TZID=UTC:20211121T180000
DTSTAMP:20260424T032900
CREATED:20211027T005439Z
LAST-MODIFIED:20220118T023602Z
UID:1652-1637503200-1637517600@sjya.org
SUMMARY:Friendsgiving & Football
DESCRIPTION:Friendsgiving – Our annual Friendsgiving dinner and football game will be Sunday\, Nov. 21st!! Details to follow but please mark your calendars 👍 \nSignup to bring food using this link!
URL:https://sjya.org/event/friendsgiving/
LOCATION:OC Tabernacle\, 550 Wesley Ave\, Ocean City\, NJ\, 08226\, United States
CATEGORIES:Fellowship & Fun,Food
ATTACH;FMTTYPE=image/jpeg:https://sjya.org/wp-content/uploads/2021/10/Friendsgiving_2021-copy.jpeg
ORGANIZER;CN="SJYA":MAILTO:southjersey.youngadults@gmail.com
END:VEVENT
BEGIN:VEVENT
DTSTART;TZID=UTC:20211114T153000
DTEND;TZID=UTC:20211114T210000
DTSTAMP:20260424T032900
CREATED:20211110T220242Z
LAST-MODIFIED:20211110T220242Z
UID:1799-1636903800-1636923600@sjya.org
SUMMARY:Fall Bonfire & Hangout
DESCRIPTION:Hang out at the Davis’ Lamson house – THIS Sunday\, the Davis’ are throwing a fall bonfire at their family home. There will be a soccer and/or volleyball game starting around 3:30/4pm for anyone who would like to participate. Bonfire will be from 5pm-9pm as well as some games. Feel free to bring snacks and drinks to share. Pizza will be provided. Let Liz know by FRIDAY if you can make it! \nContact for details.
URL:https://sjya.org/event/fall-bonfire-hangout/
LOCATION:NJ
CATEGORIES:Fellowship & Fun,Food
ATTACH;FMTTYPE=image/jpeg:https://sjya.org/wp-content/uploads/2015/09/imagejpeg_0-50.jpg
ORGANIZER;CN="SJYA":MAILTO:southjersey.youngadults@gmail.com
END:VEVENT
BEGIN:VEVENT
DTSTART;TZID=UTC:20211031T200000
DTEND;TZID=UTC:20211031T220000
DTSTAMP:20260424T032900
CREATED:20211110T025254Z
LAST-MODIFIED:20220906T162159Z
UID:1777-1635710400-1635717600@sjya.org
SUMMARY:Mission Point Costume Party
DESCRIPTION:
URL:https://sjya.org/event/mission-point-costume-party/
LOCATION:NJ
CATEGORIES:Fellowship & Fun
ATTACH;FMTTYPE=image/jpeg:https://sjya.org/wp-content/uploads/2021/11/MissionPointCostumeParty_2021.jpg
ORGANIZER;CN="Mission Point YA":MAILTO:info@missionpointchurch.com
END:VEVENT
BEGIN:VEVENT
DTSTART;TZID=UTC:20211029T183000
DTEND;TZID=UTC:20211029T203000
DTSTAMP:20260424T032900
CREATED:20150916T184729Z
LAST-MODIFIED:20211030T024454Z
UID:438-1635532200-1635539400@sjya.org
SUMMARY:Corn Maze & Scavenger Hunt (Cancelled)
DESCRIPTION:Don’t forget about the corn maze & scavenger hunt at Sahl’s Family Farm!
URL:https://sjya.org/event/corn-maze/
LOCATION:Sahl’s Family Farm\, 420 West Pestalozzi Street\, Galloway Twp.\, NJ\, 08215\, United States
CATEGORIES:Fellowship & Fun
ATTACH;FMTTYPE=image/png:https://sjya.org/wp-content/uploads/2015/09/Corn-Maze-Scavenger-Hunt_102921.png
ORGANIZER;CN="SJYA":MAILTO:southjersey.youngadults@gmail.com
END:VEVENT
END:VCALENDAR