BEGIN:VCALENDAR
VERSION:2.0
PRODID:-//SJYA South Jersey Young Adults - ECPv6.15.20//NONSGML v1.0//EN
CALSCALE:GREGORIAN
METHOD:PUBLISH
X-ORIGINAL-URL:https://sjya.org
X-WR-CALDESC:Events for SJYA South Jersey Young Adults
REFRESH-INTERVAL;VALUE=DURATION:PT1H
X-Robots-Tag:noindex
X-PUBLISHED-TTL:PT1H
BEGIN:VTIMEZONE
TZID:UTC
BEGIN:STANDARD
TZOFFSETFROM:+0000
TZOFFSETTO:+0000
TZNAME:UTC
DTSTART:20200101T000000
END:STANDARD
END:VTIMEZONE
BEGIN:VEVENT
DTSTART;TZID=UTC:20211104T183000
DTEND;TZID=UTC:20211104T200000
DTSTAMP:20260426T003026
CREATED:20211030T030118Z
LAST-MODIFIED:20211030T030118Z
UID:1770-1636050600-1636056000@sjya.org
SUMMARY:Thursday Night Message
DESCRIPTION:Pastor Matt Maher brings a powerful message every Thursday night at Coastal Christian. A group of young adults from across the SJ area congregate in the back left corner! Come out for worship\, a message\, and fellowship after in the sanctuary. Once a month we go to Texas Roadhouse for fellowship and free food! You don’t want to miss it!
URL:https://sjya.org/event/thursday-night-message/
LOCATION:Landmark\, 300 E 8th Street\, Ocean City\, NJ\, 08226\, United States
CATEGORIES:Fellowship & Message,Worship
ATTACH;FMTTYPE=image/png:https://sjya.org/wp-content/uploads/2021/10/ThursdayCoastalChristian.png
ORGANIZER;CN="The Hub":MAILTO:hello@thelandmark.church
END:VEVENT
END:VCALENDAR