BEGIN:VCALENDAR
VERSION:2.0
PRODID:-//SJYA South Jersey Young Adults - ECPv6.15.20//NONSGML v1.0//EN
CALSCALE:GREGORIAN
METHOD:PUBLISH
X-WR-CALNAME:SJYA South Jersey Young Adults
X-ORIGINAL-URL:https://sjya.org
X-WR-CALDESC:Events for SJYA South Jersey Young Adults
REFRESH-INTERVAL;VALUE=DURATION:PT1H
X-Robots-Tag:noindex
X-PUBLISHED-TTL:PT1H
BEGIN:VTIMEZONE
TZID:UTC
BEGIN:STANDARD
TZOFFSETFROM:+0000
TZOFFSETTO:+0000
TZNAME:UTC
DTSTART:20210101T000000
END:STANDARD
END:VTIMEZONE
BEGIN:VEVENT
DTSTART;TZID=UTC:20230714T183000
DTEND;TZID=UTC:20230715T203000
DTSTAMP:20260424T100833
CREATED:20230209T215404Z
LAST-MODIFIED:20230209T215404Z
UID:2749-1689359400-1689453000@sjya.org
SUMMARY:Resonate CONFERENCE
DESCRIPTION:It is a time to gather and lift up one voice to worship Jesus; to pursue relationships with one another and grow as a generation who is hungry for more of the Lord; to glorify God for all that He is doing in and through us with other young adults in the area. ONE SUNDAY\, EVERY OTHER MONTH. \nWHO WE ARE\nResonate is not the product of one single church. Instead\, we are the combined effort of multiple churches coming together with one purpose: To unite the body of Christ through worship and prayer. \n 
URL:https://sjya.org/event/resonate-conference/
LOCATION:Calvary Church Delran\, 317 Conrow Road\, Delran\, NJ\, 08075\, United States
CATEGORIES:Seminar / Event,Worship
ATTACH;FMTTYPE=image/jpeg:https://sjya.org/wp-content/uploads/2015/09/ResonateWorshipNJ_2.jpg
ORGANIZER;CN="SJYA":MAILTO:southjersey.youngadults@gmail.com
END:VEVENT
BEGIN:VEVENT
DTSTART;TZID=UTC:20230219T180000
DTEND;TZID=UTC:20230219T203000
DTSTAMP:20260424T100833
CREATED:20230209T215924Z
LAST-MODIFIED:20230210T185731Z
UID:2751-1676829600-1676838600@sjya.org
SUMMARY:The Hub - Mental Health Panel
DESCRIPTION:Connecting young adults (ages 18-33) with Jesus and each other through authentic community\, and challenging them to believe\, belong\, and become the church. Text @coastalya to 81010 to be added to our Remind app for text updates! \nStay tuned for what we will be speaking on! \nHUB Young Adults: Only TWO more weeks until our HUB Mental Health Panel! Do you have questions for the Q&A? Respond to this remind with them! See you on Sunday\, February 19th from 6-8:30 pm. rmd.me/oJbGhQ3eXQr \n 
URL:https://sjya.org/event/the-hub-mental-health-panel/
LOCATION:Landmark\, 300 E 8th Street\, Ocean City\, NJ\, 08226\, United States
CATEGORIES:Fellowship & Message,Seminar / Event
ATTACH;FMTTYPE=image/jpeg:https://sjya.org/wp-content/uploads/2023/02/HubMental-Health.jpeg
ORGANIZER;CN="The Hub":MAILTO:hello@thelandmark.church
END:VEVENT
BEGIN:VEVENT
DTSTART;VALUE=DATE:20220204
DTEND;VALUE=DATE:20220205
DTSTAMP:20260424T100833
CREATED:20220308T015218Z
LAST-MODIFIED:20220308T015218Z
UID:1934-1643932800-1644019199@sjya.org
SUMMARY:SJYA Digital Detox
DESCRIPTION:Don’t forget about our digital detox tomorrow (Friday) and The HUB on Saturday – see flyers. Be praying over both and asking the Lord to give you insight into where He has you. Meet up with a friend and talk about how you’re doing in the challenge! Worried about missing texts? Go here to learn how to set up auto replies on iPhone – https://www.alphr.com/auto-reply-text-iphone/ Android has this feature in their apps as well. \nALSO – See attached devo – are you creating space in your life to hear from the Lord\, or numbing yourself with distractions? Good food for thought 🙏
URL:https://sjya.org/event/sjya-digital-detox/
LOCATION:SJYA\, Ocean City\, NJ\, 08226\, United States
CATEGORIES:Seminar / Event
ATTACH;FMTTYPE=image/jpeg:https://sjya.org/wp-content/uploads/2022/03/SJYA-Digital-Detox-020422.jpg
ORGANIZER;CN="SJYA":MAILTO:southjersey.youngadults@gmail.com
END:VEVENT
BEGIN:VEVENT
DTSTART;TZID=UTC:20220122T093000
DTEND;TZID=UTC:20220122T170000
DTSTAMP:20260424T100833
CREATED:20220121T192829Z
LAST-MODIFIED:20220121T193803Z
UID:1858-1642843800-1642870800@sjya.org
SUMMARY:Proven Men - This is War 2022 Conference
DESCRIPTION:Proven Men Event – See the attached flyer for a powerful event on the war against Godly sexuality\, Saturday Jan. 22nd at Wellspring Church. 🙏 Matt Glancey from Coastal is organizing the event and would love to see a group of young adult men in attendance. \nPROVEN MEN’S THIS IS WAR 2022 CONFERENCE IS ABOUT CREATING A GENUINE\, NO HOLDS BARRED MOVEMENT AGAINST TODAYS DESTRUCTIVE SEXUAL CULTURE. WE AS THE SONS OF GOD GATHER TOGETHER TO KNOW OUR FATHER AND ONE ANOTHER\, TO WAGE WAR AGAINST OUR OWN PRIDE AND SELFISHNESS. ONE DAY TO GIVE IT ALL AND TO FORM A BATTLE PLAN. THIS IS WAR.
URL:https://sjya.org/event/proven-men-this-is-war-2022-conference/
LOCATION:Wellspring Church\, 601 Babcock Road\, Mays Landing\, NJ\, 08330\, United States
CATEGORIES:Seminar / Event
ATTACH;FMTTYPE=image/png:https://sjya.org/wp-content/uploads/2022/01/provenmenimage.png
ORGANIZER;CN="The Hub":MAILTO:hello@thelandmark.church
END:VEVENT
END:VCALENDAR