BEGIN:VCALENDAR
VERSION:2.0
PRODID:-//SJYA South Jersey Young Adults - ECPv6.15.20//NONSGML v1.0//EN
CALSCALE:GREGORIAN
METHOD:PUBLISH
X-WR-CALNAME:SJYA South Jersey Young Adults
X-ORIGINAL-URL:https://sjya.org
X-WR-CALDESC:Events for SJYA South Jersey Young Adults
REFRESH-INTERVAL;VALUE=DURATION:PT1H
X-Robots-Tag:noindex
X-PUBLISHED-TTL:PT1H
BEGIN:VTIMEZONE
TZID:UTC
BEGIN:STANDARD
TZOFFSETFROM:+0000
TZOFFSETTO:+0000
TZNAME:UTC
DTSTART:20210101T000000
END:STANDARD
END:VTIMEZONE
BEGIN:VEVENT
DTSTART;TZID=UTC:20240207T180000
DTEND;TZID=UTC:20240207T193000
DTSTAMP:20260423T234631
CREATED:20240207T003110Z
LAST-MODIFIED:20240207T003139Z
UID:2808-1707328800-1707334200@sjya.org
SUMMARY:Wednesday Night Message @ Landmark Church
DESCRIPTION:Pastor Matt Maher brings a powerful message every Wednesday night at Landmark Church. Come out for worship\, a message\, and fellowship after in the sanctuary.
URL:https://sjya.org/event/thursday-night-message-landmark-church-2-2/
LOCATION:Landmark\, 300 E 8th Street\, Ocean City\, NJ\, 08226\, United States
CATEGORIES:Fellowship & Message,Worship
ATTACH;FMTTYPE=image/png:https://sjya.org/wp-content/uploads/2022/03/Pastor-Matt-Maher-Thursday-Night-Landmark-Church.png
ORGANIZER;CN="The Hub":MAILTO:hello@thelandmark.church
END:VEVENT
BEGIN:VEVENT
DTSTART;TZID=UTC:20230810T183000
DTEND;TZID=UTC:20230810T200000
DTSTAMP:20260423T234631
CREATED:20230828T191916Z
LAST-MODIFIED:20230828T192305Z
UID:2785-1691692200-1691697600@sjya.org
SUMMARY:Thursday Night Message @ Landmark Church
DESCRIPTION:Pastor Matt Maher brings a powerful message every Thursday night at Coastal Christian. A group of young adults from across the SJ area congregate in the back left corner! Come out for worship\, a message\, and fellowship after in the sanctuary.
URL:https://sjya.org/event/thursday-night-message-landmark-church-2/
LOCATION:Landmark\, 300 E 8th Street\, Ocean City\, NJ\, 08226\, United States
CATEGORIES:Fellowship & Message,Worship
ATTACH;FMTTYPE=image/png:https://sjya.org/wp-content/uploads/2022/03/Pastor-Matt-Maher-Thursday-Night-Landmark-Church.png
ORGANIZER;CN="The Hub":MAILTO:hello@thelandmark.church
END:VEVENT
BEGIN:VEVENT
DTSTART;TZID=UTC:20230810T183000
DTEND;TZID=UTC:20230810T200000
DTSTAMP:20260423T234631
CREATED:20230828T191916Z
LAST-MODIFIED:20230828T192305Z
UID:2785-1691692200-1691697600@sjya.org
SUMMARY:Thursday Night Message @ Landmark Church
DESCRIPTION:Pastor Matt Maher brings a powerful message every Thursday night at Coastal Christian. A group of young adults from across the SJ area congregate in the back left corner! Come out for worship\, a message\, and fellowship after in the sanctuary.
URL:https://sjya.org/event/thursday-night-message-landmark-church-2/
LOCATION:Landmark\, 300 E 8th Street\, Ocean City\, NJ\, 08226\, United States
CATEGORIES:Fellowship & Message,Worship
ATTACH;FMTTYPE=image/png:https://sjya.org/wp-content/uploads/2022/03/Pastor-Matt-Maher-Thursday-Night-Landmark-Church.png
ORGANIZER;CN="The Hub":MAILTO:hello@thelandmark.church
END:VEVENT
BEGIN:VEVENT
DTSTART;TZID=UTC:20230810T183000
DTEND;TZID=UTC:20230810T200000
DTSTAMP:20260423T234631
CREATED:20230828T191916Z
LAST-MODIFIED:20230828T192305Z
UID:2785-1691692200-1691697600@sjya.org
SUMMARY:Thursday Night Message @ Landmark Church
DESCRIPTION:Pastor Matt Maher brings a powerful message every Thursday night at Coastal Christian. A group of young adults from across the SJ area congregate in the back left corner! Come out for worship\, a message\, and fellowship after in the sanctuary.
URL:https://sjya.org/event/thursday-night-message-landmark-church-2/
LOCATION:Landmark\, 300 E 8th Street\, Ocean City\, NJ\, 08226\, United States
CATEGORIES:Fellowship & Message,Worship
ATTACH;FMTTYPE=image/png:https://sjya.org/wp-content/uploads/2022/03/Pastor-Matt-Maher-Thursday-Night-Landmark-Church.png
ORGANIZER;CN="The Hub":MAILTO:hello@thelandmark.church
END:VEVENT
BEGIN:VEVENT
DTSTART;TZID=UTC:20230810T183000
DTEND;TZID=UTC:20230810T200000
DTSTAMP:20260423T234631
CREATED:20230828T191916Z
LAST-MODIFIED:20230828T192305Z
UID:2785-1691692200-1691697600@sjya.org
SUMMARY:Thursday Night Message @ Landmark Church
DESCRIPTION:Pastor Matt Maher brings a powerful message every Thursday night at Coastal Christian. A group of young adults from across the SJ area congregate in the back left corner! Come out for worship\, a message\, and fellowship after in the sanctuary.
URL:https://sjya.org/event/thursday-night-message-landmark-church-2/
LOCATION:Landmark\, 300 E 8th Street\, Ocean City\, NJ\, 08226\, United States
CATEGORIES:Fellowship & Message,Worship
ATTACH;FMTTYPE=image/png:https://sjya.org/wp-content/uploads/2022/03/Pastor-Matt-Maher-Thursday-Night-Landmark-Church.png
ORGANIZER;CN="The Hub":MAILTO:hello@thelandmark.church
END:VEVENT
BEGIN:VEVENT
DTSTART;TZID=UTC:20230810T183000
DTEND;TZID=UTC:20230810T200000
DTSTAMP:20260423T234631
CREATED:20230828T191916Z
LAST-MODIFIED:20230828T192305Z
UID:2785-1691692200-1691697600@sjya.org
SUMMARY:Thursday Night Message @ Landmark Church
DESCRIPTION:Pastor Matt Maher brings a powerful message every Thursday night at Coastal Christian. A group of young adults from across the SJ area congregate in the back left corner! Come out for worship\, a message\, and fellowship after in the sanctuary.
URL:https://sjya.org/event/thursday-night-message-landmark-church-2/
LOCATION:Landmark\, 300 E 8th Street\, Ocean City\, NJ\, 08226\, United States
CATEGORIES:Fellowship & Message,Worship
ATTACH;FMTTYPE=image/png:https://sjya.org/wp-content/uploads/2022/03/Pastor-Matt-Maher-Thursday-Night-Landmark-Church.png
ORGANIZER;CN="The Hub":MAILTO:hello@thelandmark.church
END:VEVENT
BEGIN:VEVENT
DTSTART;TZID=UTC:20230810T183000
DTEND;TZID=UTC:20230810T200000
DTSTAMP:20260423T234631
CREATED:20230828T191916Z
LAST-MODIFIED:20230828T192305Z
UID:2785-1691692200-1691697600@sjya.org
SUMMARY:Thursday Night Message @ Landmark Church
DESCRIPTION:Pastor Matt Maher brings a powerful message every Thursday night at Coastal Christian. A group of young adults from across the SJ area congregate in the back left corner! Come out for worship\, a message\, and fellowship after in the sanctuary.
URL:https://sjya.org/event/thursday-night-message-landmark-church-2/
LOCATION:Landmark\, 300 E 8th Street\, Ocean City\, NJ\, 08226\, United States
CATEGORIES:Fellowship & Message,Worship
ATTACH;FMTTYPE=image/png:https://sjya.org/wp-content/uploads/2022/03/Pastor-Matt-Maher-Thursday-Night-Landmark-Church.png
ORGANIZER;CN="The Hub":MAILTO:hello@thelandmark.church
END:VEVENT
BEGIN:VEVENT
DTSTART;TZID=UTC:20230810T183000
DTEND;TZID=UTC:20230810T200000
DTSTAMP:20260423T234631
CREATED:20230828T191916Z
LAST-MODIFIED:20230828T192305Z
UID:2785-1691692200-1691697600@sjya.org
SUMMARY:Thursday Night Message @ Landmark Church
DESCRIPTION:Pastor Matt Maher brings a powerful message every Thursday night at Coastal Christian. A group of young adults from across the SJ area congregate in the back left corner! Come out for worship\, a message\, and fellowship after in the sanctuary.
URL:https://sjya.org/event/thursday-night-message-landmark-church-2/
LOCATION:Landmark\, 300 E 8th Street\, Ocean City\, NJ\, 08226\, United States
CATEGORIES:Fellowship & Message,Worship
ATTACH;FMTTYPE=image/png:https://sjya.org/wp-content/uploads/2022/03/Pastor-Matt-Maher-Thursday-Night-Landmark-Church.png
ORGANIZER;CN="The Hub":MAILTO:hello@thelandmark.church
END:VEVENT
BEGIN:VEVENT
DTSTART;TZID=UTC:20231112T183000
DTEND;TZID=UTC:20231112T203000
DTSTAMP:20260423T234631
CREATED:20230209T215322Z
LAST-MODIFIED:20230209T215322Z
UID:2747-1699813800-1699821000@sjya.org
SUMMARY:Resonate Worship Night
DESCRIPTION:It is a time to gather and lift up one voice to worship Jesus; to pursue relationships with one another and grow as a generation who is hungry for more of the Lord; to glorify God for all that He is doing in and through us with other young adults in the area. ONE SUNDAY\, EVERY OTHER MONTH. \nWHO WE ARE\nResonate is not the product of one single church. Instead\, we are the combined effort of multiple churches coming together with one purpose: To unite the body of Christ through worship and prayer. \n 
URL:https://sjya.org/event/resonate-worship-night-12/
LOCATION:Calvary Church Delran\, 317 Conrow Road\, Delran\, NJ\, 08075\, United States
CATEGORIES:Worship
ATTACH;FMTTYPE=image/jpeg:https://sjya.org/wp-content/uploads/2015/09/ResonateWorshipNJ_2.jpg
ORGANIZER;CN="SJYA":MAILTO:southjersey.youngadults@gmail.com
END:VEVENT
BEGIN:VEVENT
DTSTART;TZID=UTC:20230810T183000
DTEND;TZID=UTC:20230810T200000
DTSTAMP:20260423T234631
CREATED:20230828T191916Z
LAST-MODIFIED:20230828T192305Z
UID:2785-1691692200-1691697600@sjya.org
SUMMARY:Thursday Night Message @ Landmark Church
DESCRIPTION:Pastor Matt Maher brings a powerful message every Thursday night at Coastal Christian. A group of young adults from across the SJ area congregate in the back left corner! Come out for worship\, a message\, and fellowship after in the sanctuary.
URL:https://sjya.org/event/thursday-night-message-landmark-church-2/
LOCATION:Landmark\, 300 E 8th Street\, Ocean City\, NJ\, 08226\, United States
CATEGORIES:Fellowship & Message,Worship
ATTACH;FMTTYPE=image/png:https://sjya.org/wp-content/uploads/2022/03/Pastor-Matt-Maher-Thursday-Night-Landmark-Church.png
ORGANIZER;CN="The Hub":MAILTO:hello@thelandmark.church
END:VEVENT
BEGIN:VEVENT
DTSTART;TZID=UTC:20230810T183000
DTEND;TZID=UTC:20230810T200000
DTSTAMP:20260423T234631
CREATED:20230828T191916Z
LAST-MODIFIED:20230828T192305Z
UID:2785-1691692200-1691697600@sjya.org
SUMMARY:Thursday Night Message @ Landmark Church
DESCRIPTION:Pastor Matt Maher brings a powerful message every Thursday night at Coastal Christian. A group of young adults from across the SJ area congregate in the back left corner! Come out for worship\, a message\, and fellowship after in the sanctuary.
URL:https://sjya.org/event/thursday-night-message-landmark-church-2/
LOCATION:Landmark\, 300 E 8th Street\, Ocean City\, NJ\, 08226\, United States
CATEGORIES:Fellowship & Message,Worship
ATTACH;FMTTYPE=image/png:https://sjya.org/wp-content/uploads/2022/03/Pastor-Matt-Maher-Thursday-Night-Landmark-Church.png
ORGANIZER;CN="The Hub":MAILTO:hello@thelandmark.church
END:VEVENT
BEGIN:VEVENT
DTSTART;TZID=UTC:20230810T183000
DTEND;TZID=UTC:20230810T200000
DTSTAMP:20260423T234631
CREATED:20230828T191916Z
LAST-MODIFIED:20230828T192305Z
UID:2785-1691692200-1691697600@sjya.org
SUMMARY:Thursday Night Message @ Landmark Church
DESCRIPTION:Pastor Matt Maher brings a powerful message every Thursday night at Coastal Christian. A group of young adults from across the SJ area congregate in the back left corner! Come out for worship\, a message\, and fellowship after in the sanctuary.
URL:https://sjya.org/event/thursday-night-message-landmark-church-2/
LOCATION:Landmark\, 300 E 8th Street\, Ocean City\, NJ\, 08226\, United States
CATEGORIES:Fellowship & Message,Worship
ATTACH;FMTTYPE=image/png:https://sjya.org/wp-content/uploads/2022/03/Pastor-Matt-Maher-Thursday-Night-Landmark-Church.png
ORGANIZER;CN="The Hub":MAILTO:hello@thelandmark.church
END:VEVENT
BEGIN:VEVENT
DTSTART;TZID=UTC:20230810T183000
DTEND;TZID=UTC:20230810T200000
DTSTAMP:20260423T234631
CREATED:20230828T191916Z
LAST-MODIFIED:20230828T192305Z
UID:2785-1691692200-1691697600@sjya.org
SUMMARY:Thursday Night Message @ Landmark Church
DESCRIPTION:Pastor Matt Maher brings a powerful message every Thursday night at Coastal Christian. A group of young adults from across the SJ area congregate in the back left corner! Come out for worship\, a message\, and fellowship after in the sanctuary.
URL:https://sjya.org/event/thursday-night-message-landmark-church-2/
LOCATION:Landmark\, 300 E 8th Street\, Ocean City\, NJ\, 08226\, United States
CATEGORIES:Fellowship & Message,Worship
ATTACH;FMTTYPE=image/png:https://sjya.org/wp-content/uploads/2022/03/Pastor-Matt-Maher-Thursday-Night-Landmark-Church.png
ORGANIZER;CN="The Hub":MAILTO:hello@thelandmark.church
END:VEVENT
BEGIN:VEVENT
DTSTART;TZID=UTC:20230810T183000
DTEND;TZID=UTC:20230810T200000
DTSTAMP:20260423T234631
CREATED:20230828T191916Z
LAST-MODIFIED:20230828T192305Z
UID:2785-1691692200-1691697600@sjya.org
SUMMARY:Thursday Night Message @ Landmark Church
DESCRIPTION:Pastor Matt Maher brings a powerful message every Thursday night at Coastal Christian. A group of young adults from across the SJ area congregate in the back left corner! Come out for worship\, a message\, and fellowship after in the sanctuary.
URL:https://sjya.org/event/thursday-night-message-landmark-church-2/
LOCATION:Landmark\, 300 E 8th Street\, Ocean City\, NJ\, 08226\, United States
CATEGORIES:Fellowship & Message,Worship
ATTACH;FMTTYPE=image/png:https://sjya.org/wp-content/uploads/2022/03/Pastor-Matt-Maher-Thursday-Night-Landmark-Church.png
ORGANIZER;CN="The Hub":MAILTO:hello@thelandmark.church
END:VEVENT
BEGIN:VEVENT
DTSTART;TZID=UTC:20230810T183000
DTEND;TZID=UTC:20230810T200000
DTSTAMP:20260423T234631
CREATED:20230828T191916Z
LAST-MODIFIED:20230828T192305Z
UID:2785-1691692200-1691697600@sjya.org
SUMMARY:Thursday Night Message @ Landmark Church
DESCRIPTION:Pastor Matt Maher brings a powerful message every Thursday night at Coastal Christian. A group of young adults from across the SJ area congregate in the back left corner! Come out for worship\, a message\, and fellowship after in the sanctuary.
URL:https://sjya.org/event/thursday-night-message-landmark-church-2/
LOCATION:Landmark\, 300 E 8th Street\, Ocean City\, NJ\, 08226\, United States
CATEGORIES:Fellowship & Message,Worship
ATTACH;FMTTYPE=image/png:https://sjya.org/wp-content/uploads/2022/03/Pastor-Matt-Maher-Thursday-Night-Landmark-Church.png
ORGANIZER;CN="The Hub":MAILTO:hello@thelandmark.church
END:VEVENT
BEGIN:VEVENT
DTSTART;TZID=UTC:20230810T183000
DTEND;TZID=UTC:20230810T200000
DTSTAMP:20260423T234631
CREATED:20230828T191916Z
LAST-MODIFIED:20230828T192305Z
UID:2785-1691692200-1691697600@sjya.org
SUMMARY:Thursday Night Message @ Landmark Church
DESCRIPTION:Pastor Matt Maher brings a powerful message every Thursday night at Coastal Christian. A group of young adults from across the SJ area congregate in the back left corner! Come out for worship\, a message\, and fellowship after in the sanctuary.
URL:https://sjya.org/event/thursday-night-message-landmark-church-2/
LOCATION:Landmark\, 300 E 8th Street\, Ocean City\, NJ\, 08226\, United States
CATEGORIES:Fellowship & Message,Worship
ATTACH;FMTTYPE=image/png:https://sjya.org/wp-content/uploads/2022/03/Pastor-Matt-Maher-Thursday-Night-Landmark-Church.png
ORGANIZER;CN="The Hub":MAILTO:hello@thelandmark.church
END:VEVENT
BEGIN:VEVENT
DTSTART;TZID=UTC:20230924T183000
DTEND;TZID=UTC:20230924T203000
DTSTAMP:20260423T234631
CREATED:20230209T215257Z
LAST-MODIFIED:20230209T215257Z
UID:2745-1695580200-1695587400@sjya.org
SUMMARY:Resonate Worship Night
DESCRIPTION:It is a time to gather and lift up one voice to worship Jesus; to pursue relationships with one another and grow as a generation who is hungry for more of the Lord; to glorify God for all that He is doing in and through us with other young adults in the area. ONE SUNDAY\, EVERY OTHER MONTH. \nWHO WE ARE\nResonate is not the product of one single church. Instead\, we are the combined effort of multiple churches coming together with one purpose: To unite the body of Christ through worship and prayer. \n 
URL:https://sjya.org/event/resonate-worship-night-11/
LOCATION:Calvary Church Delran\, 317 Conrow Road\, Delran\, NJ\, 08075\, United States
CATEGORIES:Worship
ATTACH;FMTTYPE=image/jpeg:https://sjya.org/wp-content/uploads/2015/09/ResonateWorshipNJ_2.jpg
ORGANIZER;CN="SJYA":MAILTO:southjersey.youngadults@gmail.com
END:VEVENT
BEGIN:VEVENT
DTSTART;TZID=UTC:20230810T183000
DTEND;TZID=UTC:20230810T200000
DTSTAMP:20260423T234631
CREATED:20230828T191916Z
LAST-MODIFIED:20230828T192305Z
UID:2785-1691692200-1691697600@sjya.org
SUMMARY:Thursday Night Message @ Landmark Church
DESCRIPTION:Pastor Matt Maher brings a powerful message every Thursday night at Coastal Christian. A group of young adults from across the SJ area congregate in the back left corner! Come out for worship\, a message\, and fellowship after in the sanctuary.
URL:https://sjya.org/event/thursday-night-message-landmark-church-2/
LOCATION:Landmark\, 300 E 8th Street\, Ocean City\, NJ\, 08226\, United States
CATEGORIES:Fellowship & Message,Worship
ATTACH;FMTTYPE=image/png:https://sjya.org/wp-content/uploads/2022/03/Pastor-Matt-Maher-Thursday-Night-Landmark-Church.png
ORGANIZER;CN="The Hub":MAILTO:hello@thelandmark.church
END:VEVENT
BEGIN:VEVENT
DTSTART;TZID=UTC:20230810T183000
DTEND;TZID=UTC:20230810T200000
DTSTAMP:20260423T234631
CREATED:20230828T191916Z
LAST-MODIFIED:20230828T192305Z
UID:2785-1691692200-1691697600@sjya.org
SUMMARY:Thursday Night Message @ Landmark Church
DESCRIPTION:Pastor Matt Maher brings a powerful message every Thursday night at Coastal Christian. A group of young adults from across the SJ area congregate in the back left corner! Come out for worship\, a message\, and fellowship after in the sanctuary.
URL:https://sjya.org/event/thursday-night-message-landmark-church-2/
LOCATION:Landmark\, 300 E 8th Street\, Ocean City\, NJ\, 08226\, United States
CATEGORIES:Fellowship & Message,Worship
ATTACH;FMTTYPE=image/png:https://sjya.org/wp-content/uploads/2022/03/Pastor-Matt-Maher-Thursday-Night-Landmark-Church.png
ORGANIZER;CN="The Hub":MAILTO:hello@thelandmark.church
END:VEVENT
BEGIN:VEVENT
DTSTART;TZID=UTC:20230810T183000
DTEND;TZID=UTC:20230810T200000
DTSTAMP:20260423T234631
CREATED:20230828T191916Z
LAST-MODIFIED:20230828T192305Z
UID:2785-1691692200-1691697600@sjya.org
SUMMARY:Thursday Night Message @ Landmark Church
DESCRIPTION:Pastor Matt Maher brings a powerful message every Thursday night at Coastal Christian. A group of young adults from across the SJ area congregate in the back left corner! Come out for worship\, a message\, and fellowship after in the sanctuary.
URL:https://sjya.org/event/thursday-night-message-landmark-church-2/
LOCATION:Landmark\, 300 E 8th Street\, Ocean City\, NJ\, 08226\, United States
CATEGORIES:Fellowship & Message,Worship
ATTACH;FMTTYPE=image/png:https://sjya.org/wp-content/uploads/2022/03/Pastor-Matt-Maher-Thursday-Night-Landmark-Church.png
ORGANIZER;CN="The Hub":MAILTO:hello@thelandmark.church
END:VEVENT
BEGIN:VEVENT
DTSTART;TZID=UTC:20230810T183000
DTEND;TZID=UTC:20230810T200000
DTSTAMP:20260423T234631
CREATED:20230828T191916Z
LAST-MODIFIED:20230828T192305Z
UID:2785-1691692200-1691697600@sjya.org
SUMMARY:Thursday Night Message @ Landmark Church
DESCRIPTION:Pastor Matt Maher brings a powerful message every Thursday night at Coastal Christian. A group of young adults from across the SJ area congregate in the back left corner! Come out for worship\, a message\, and fellowship after in the sanctuary.
URL:https://sjya.org/event/thursday-night-message-landmark-church-2/
LOCATION:Landmark\, 300 E 8th Street\, Ocean City\, NJ\, 08226\, United States
CATEGORIES:Fellowship & Message,Worship
ATTACH;FMTTYPE=image/png:https://sjya.org/wp-content/uploads/2022/03/Pastor-Matt-Maher-Thursday-Night-Landmark-Church.png
ORGANIZER;CN="The Hub":MAILTO:hello@thelandmark.church
END:VEVENT
BEGIN:VEVENT
DTSTART;TZID=UTC:20230810T183000
DTEND;TZID=UTC:20230810T200000
DTSTAMP:20260423T234631
CREATED:20230828T191916Z
LAST-MODIFIED:20230828T192305Z
UID:2785-1691692200-1691697600@sjya.org
SUMMARY:Thursday Night Message @ Landmark Church
DESCRIPTION:Pastor Matt Maher brings a powerful message every Thursday night at Coastal Christian. A group of young adults from across the SJ area congregate in the back left corner! Come out for worship\, a message\, and fellowship after in the sanctuary.
URL:https://sjya.org/event/thursday-night-message-landmark-church-2/
LOCATION:Landmark\, 300 E 8th Street\, Ocean City\, NJ\, 08226\, United States
CATEGORIES:Fellowship & Message,Worship
ATTACH;FMTTYPE=image/png:https://sjya.org/wp-content/uploads/2022/03/Pastor-Matt-Maher-Thursday-Night-Landmark-Church.png
ORGANIZER;CN="The Hub":MAILTO:hello@thelandmark.church
END:VEVENT
BEGIN:VEVENT
DTSTART;TZID=UTC:20230810T183000
DTEND;TZID=UTC:20230810T200000
DTSTAMP:20260423T234631
CREATED:20230828T191916Z
LAST-MODIFIED:20230828T192305Z
UID:2785-1691692200-1691697600@sjya.org
SUMMARY:Thursday Night Message @ Landmark Church
DESCRIPTION:Pastor Matt Maher brings a powerful message every Thursday night at Coastal Christian. A group of young adults from across the SJ area congregate in the back left corner! Come out for worship\, a message\, and fellowship after in the sanctuary.
URL:https://sjya.org/event/thursday-night-message-landmark-church-2/
LOCATION:Landmark\, 300 E 8th Street\, Ocean City\, NJ\, 08226\, United States
CATEGORIES:Fellowship & Message,Worship
ATTACH;FMTTYPE=image/png:https://sjya.org/wp-content/uploads/2022/03/Pastor-Matt-Maher-Thursday-Night-Landmark-Church.png
ORGANIZER;CN="The Hub":MAILTO:hello@thelandmark.church
END:VEVENT
BEGIN:VEVENT
DTSTART;TZID=UTC:20230810T183000
DTEND;TZID=UTC:20230810T200000
DTSTAMP:20260423T234631
CREATED:20230828T191916Z
LAST-MODIFIED:20230828T192305Z
UID:2785-1691692200-1691697600@sjya.org
SUMMARY:Thursday Night Message @ Landmark Church
DESCRIPTION:Pastor Matt Maher brings a powerful message every Thursday night at Coastal Christian. A group of young adults from across the SJ area congregate in the back left corner! Come out for worship\, a message\, and fellowship after in the sanctuary.
URL:https://sjya.org/event/thursday-night-message-landmark-church-2/
LOCATION:Landmark\, 300 E 8th Street\, Ocean City\, NJ\, 08226\, United States
CATEGORIES:Fellowship & Message,Worship
ATTACH;FMTTYPE=image/png:https://sjya.org/wp-content/uploads/2022/03/Pastor-Matt-Maher-Thursday-Night-Landmark-Church.png
ORGANIZER;CN="The Hub":MAILTO:hello@thelandmark.church
END:VEVENT
BEGIN:VEVENT
DTSTART;TZID=UTC:20230714T183000
DTEND;TZID=UTC:20230715T203000
DTSTAMP:20260423T234631
CREATED:20230209T215404Z
LAST-MODIFIED:20230209T215404Z
UID:2749-1689359400-1689453000@sjya.org
SUMMARY:Resonate CONFERENCE
DESCRIPTION:It is a time to gather and lift up one voice to worship Jesus; to pursue relationships with one another and grow as a generation who is hungry for more of the Lord; to glorify God for all that He is doing in and through us with other young adults in the area. ONE SUNDAY\, EVERY OTHER MONTH. \nWHO WE ARE\nResonate is not the product of one single church. Instead\, we are the combined effort of multiple churches coming together with one purpose: To unite the body of Christ through worship and prayer. \n 
URL:https://sjya.org/event/resonate-conference/
LOCATION:Calvary Church Delran\, 317 Conrow Road\, Delran\, NJ\, 08075\, United States
CATEGORIES:Seminar / Event,Worship
ATTACH;FMTTYPE=image/jpeg:https://sjya.org/wp-content/uploads/2015/09/ResonateWorshipNJ_2.jpg
ORGANIZER;CN="SJYA":MAILTO:southjersey.youngadults@gmail.com
END:VEVENT
BEGIN:VEVENT
DTSTART;TZID=UTC:20230521T183000
DTEND;TZID=UTC:20230521T203000
DTSTAMP:20260423T234631
CREATED:20230209T215224Z
LAST-MODIFIED:20230209T215224Z
UID:2743-1684693800-1684701000@sjya.org
SUMMARY:Resonate Worship Night
DESCRIPTION:It is a time to gather and lift up one voice to worship Jesus; to pursue relationships with one another and grow as a generation who is hungry for more of the Lord; to glorify God for all that He is doing in and through us with other young adults in the area. ONE SUNDAY\, EVERY OTHER MONTH. \nWHO WE ARE\nResonate is not the product of one single church. Instead\, we are the combined effort of multiple churches coming together with one purpose: To unite the body of Christ through worship and prayer. \n 
URL:https://sjya.org/event/resonate-worship-night-10/
LOCATION:Calvary Church Delran\, 317 Conrow Road\, Delran\, NJ\, 08075\, United States
CATEGORIES:Worship
ATTACH;FMTTYPE=image/jpeg:https://sjya.org/wp-content/uploads/2015/09/ResonateWorshipNJ_2.jpg
ORGANIZER;CN="SJYA":MAILTO:southjersey.youngadults@gmail.com
END:VEVENT
BEGIN:VEVENT
DTSTART;TZID=UTC:20230326T183000
DTEND;TZID=UTC:20230326T203000
DTSTAMP:20260423T234631
CREATED:20230209T215157Z
LAST-MODIFIED:20230209T215157Z
UID:2741-1679855400-1679862600@sjya.org
SUMMARY:Resonate Worship Night
DESCRIPTION:It is a time to gather and lift up one voice to worship Jesus; to pursue relationships with one another and grow as a generation who is hungry for more of the Lord; to glorify God for all that He is doing in and through us with other young adults in the area. ONE SUNDAY\, EVERY OTHER MONTH. \nWHO WE ARE\nResonate is not the product of one single church. Instead\, we are the combined effort of multiple churches coming together with one purpose: To unite the body of Christ through worship and prayer. \n 
URL:https://sjya.org/event/resonate-worship-night-9/
LOCATION:Calvary Church Delran\, 317 Conrow Road\, Delran\, NJ\, 08075\, United States
CATEGORIES:Worship
ATTACH;FMTTYPE=image/jpeg:https://sjya.org/wp-content/uploads/2015/09/ResonateWorshipNJ_2.jpg
ORGANIZER;CN="SJYA":MAILTO:southjersey.youngadults@gmail.com
END:VEVENT
BEGIN:VEVENT
DTSTART;TZID=UTC:20230129T183000
DTEND;TZID=UTC:20230129T203000
DTSTAMP:20260423T234631
CREATED:20230209T215131Z
LAST-MODIFIED:20230209T215131Z
UID:2739-1675017000-1675024200@sjya.org
SUMMARY:Resonate Worship Night
DESCRIPTION:It is a time to gather and lift up one voice to worship Jesus; to pursue relationships with one another and grow as a generation who is hungry for more of the Lord; to glorify God for all that He is doing in and through us with other young adults in the area. ONE SUNDAY\, EVERY OTHER MONTH. \nWHO WE ARE\nResonate is not the product of one single church. Instead\, we are the combined effort of multiple churches coming together with one purpose: To unite the body of Christ through worship and prayer. \n 
URL:https://sjya.org/event/resonate-worship-night-8/
LOCATION:Calvary Church Delran\, 317 Conrow Road\, Delran\, NJ\, 08075\, United States
CATEGORIES:Worship
ATTACH;FMTTYPE=image/jpeg:https://sjya.org/wp-content/uploads/2015/09/ResonateWorshipNJ_2.jpg
ORGANIZER;CN="SJYA":MAILTO:southjersey.youngadults@gmail.com
END:VEVENT
BEGIN:VEVENT
DTSTART;TZID=UTC:20221120T183000
DTEND;TZID=UTC:20221120T203000
DTSTAMP:20260423T234631
CREATED:20220924T002812Z
LAST-MODIFIED:20220924T002812Z
UID:2683-1668969000-1668976200@sjya.org
SUMMARY:Resonate Worship Night
DESCRIPTION:It is a time to gather and lift up one voice to worship Jesus; to pursue relationships with one another and grow as a generation who is hungry for more of the Lord; to glorify God for all that He is doing in and through us with other young adults in the area. ONE SUNDAY\, EVERY OTHER MONTH. \nWHO WE ARE\nResonate is not the product of one single church. Instead\, we are the combined effort of multiple churches coming together with one purpose: To unite the body of Christ through worship and prayer. \n 
URL:https://sjya.org/event/resonate-worship-night-7/
LOCATION:Calvary Church Delran\, 317 Conrow Road\, Delran\, NJ\, 08075\, United States
CATEGORIES:Worship
ATTACH;FMTTYPE=image/jpeg:https://sjya.org/wp-content/uploads/2015/09/ResonateWorshipNJ_2.jpg
ORGANIZER;CN="SJYA":MAILTO:southjersey.youngadults@gmail.com
END:VEVENT
BEGIN:VEVENT
DTSTART;TZID=UTC:20221008T190000
DTEND;TZID=UTC:20221008T210000
DTSTAMP:20260423T234631
CREATED:20221113T004133Z
LAST-MODIFIED:20221113T004133Z
UID:2726-1665255600-1665262800@sjya.org
SUMMARY:We Are Messengers Concert
DESCRIPTION:We Are Messengers concert – The OC Tabernacle is having a We Are Messengers concert THIS Saturday\, 7 p.m.!! See attached and go to OCTabernacle.org to purchase tickets\, $25👍
URL:https://sjya.org/event/we-are-messengers-concert/
LOCATION:OC Tabernacle\, 550 Wesley Ave\, Ocean City\, NJ\, 08226\, United States
CATEGORIES:Fellowship & Fun,Worship
ATTACH;FMTTYPE=image/jpeg:https://sjya.org/wp-content/uploads/2022/11/We-Are-Messengers-Ocean-City-Tabercacle-2022.jpg
ORGANIZER;CN="SJYA":MAILTO:southjersey.youngadults@gmail.com
END:VEVENT
END:VCALENDAR