BEGIN:VCALENDAR
VERSION:2.0
PRODID:-//SJYA South Jersey Young Adults - ECPv6.15.20//NONSGML v1.0//EN
CALSCALE:GREGORIAN
METHOD:PUBLISH
X-WR-CALNAME:SJYA South Jersey Young Adults
X-ORIGINAL-URL:https://sjya.org
X-WR-CALDESC:Events for SJYA South Jersey Young Adults
REFRESH-INTERVAL;VALUE=DURATION:PT1H
X-Robots-Tag:noindex
X-PUBLISHED-TTL:PT1H
BEGIN:VTIMEZONE
TZID:UTC
BEGIN:STANDARD
TZOFFSETFROM:+0000
TZOFFSETTO:+0000
TZNAME:UTC
DTSTART:20210101T000000
END:STANDARD
END:VTIMEZONE
BEGIN:VEVENT
DTSTART;TZID=UTC:20220919T190000
DTEND;TZID=UTC:20220919T203000
DTSTAMP:20260425T120841
CREATED:20220901T170958Z
LAST-MODIFIED:20220906T160754Z
UID:2220-1663614000-1663619400@sjya.org
SUMMARY:The Porch - Local Watch Party
DESCRIPTION:The Porch watch party – The Porch is a huge young adults gathering in Dallas\, TX. We typically watch last Tuesday’s message! Video starts at 7 at the Ocean City Tabernacle\, but sign up for updates\, as we sometimes gather at 6:30 for games and fellowship. \nJoin the GroupMe for more information! https://groupme.com/join_group/88295940/MfCRy9Q2 \n  \n 
URL:https://sjya.org/event/the-porch-local-watch-party-2022-09-20/
LOCATION:OC Tabernacle\, 550 Wesley Ave\, Ocean City\, NJ\, 08226\, United States
CATEGORIES:Fellowship & Message
ATTACH;FMTTYPE=image/jpeg:https://sjya.org/wp-content/uploads/2022/09/ThePorch_WatchParty_OCTabernacle.jpg
ORGANIZER;CN="SJYA":MAILTO:southjersey.youngadults@gmail.com
END:VEVENT
BEGIN:VEVENT
DTSTART;TZID=UTC:20220904T183000
DTEND;TZID=UTC:20220904T210000
DTSTAMP:20260425T120841
CREATED:20220901T210159Z
LAST-MODIFIED:20230828T184209Z
UID:2277-1662316200-1662325200@sjya.org
SUMMARY:New Life YA
DESCRIPTION:Young Adults is New Life Assemblys ministry for 18-30 year olds. Our goal is to help with the transition from the teenage years into being an adult by building a community of faith around each person. \nSundays 6:30-9pm \n\nPastor Sway (Hector J. Figueroa-Gonzalez) \n\n\nSway@nlanj.com \n\n  \n 
URL:https://sjya.org/event/new-life-ya/
LOCATION:New Life Assembly\, 5071 Fernwood Ave\, Egg Harbor Township\, NJ\, 08234\, United States
CATEGORIES:Groups
ATTACH;FMTTYPE=image/webp:https://sjya.org/wp-content/uploads/2022/09/NewLifeAssembly_YoungAdults.webp
ORGANIZER;CN="New Life YA":MAILTO:sway@nlanj.com
END:VEVENT
BEGIN:VEVENT
DTSTART;TZID=UTC:20221001T180000
DTEND;TZID=UTC:20221001T200000
DTSTAMP:20260425T120841
CREATED:20220901T172335Z
LAST-MODIFIED:20220911T134818Z
UID:2274-1664647200-1664654400@sjya.org
SUMMARY:RECHARGE
DESCRIPTION:Life can be draining and busy. That’s why we need to recharge with other believers! Come out to strengthen your energy and faith through stories and worship. We want to bring all South Jersey Young Adults into one space to RECHARGE! \n  \nPersonal invite to RECHARGE! \nhttps://sjya.org/wp-content/uploads/2022/09/Invite-Final-.mp4\nGET CONNECTED! \nhttps://sjya.org/wp-content/uploads/2022/09/Get-Connected-.mp4\nHAVE FUN! \nhttps://sjya.org/wp-content/uploads/2022/09/Its-Just-Fun-.mp4\n  \nWe can’t wait to see you on October 1st! \nFollow us on instagram for the latest details! @SJYA609 \n  \n 
URL:https://sjya.org/event/recharge/
LOCATION:OC Tabernacle\, 550 Wesley Ave\, Ocean City\, NJ\, 08226\, United States
CATEGORIES:Fellowship & Message,Worship
ATTACH;FMTTYPE=image/png:https://sjya.org/wp-content/uploads/2022/09/RECHARGE_WorshipNight_OCTabernacle.png
ORGANIZER;CN="SJYA":MAILTO:southjersey.youngadults@gmail.com
END:VEVENT
BEGIN:VEVENT
DTSTART;TZID=UTC:20220923T183000
DTEND;TZID=UTC:20220923T200000
DTSTAMP:20260425T120841
CREATED:20220923T022135Z
LAST-MODIFIED:20230828T190057Z
UID:2671-1663957800-1663963200@sjya.org
SUMMARY:Wellspring YA
DESCRIPTION:Ages 18-28 \nContact Pastor Joey: joestoop@gmail.com
URL:https://sjya.org/event/wellspring-ya/
LOCATION:Wellspring Church\, 601 Babcock Road\, Mays Landing\, NJ\, 08330\, United States
CATEGORIES:Fellowship & Message,Groups
ATTACH;FMTTYPE=image/jpeg:https://sjya.org/wp-content/uploads/2022/09/Young-Adult-Main.jpg
ORGANIZER;CN="Wellspring Church Young Adults":MAILTO:joestoop@gmail.com
END:VEVENT
BEGIN:VEVENT
DTSTART;TZID=UTC:20220316T184500
DTEND;TZID=UTC:20220316T204500
DTSTAMP:20260425T120841
CREATED:20220308T020631Z
LAST-MODIFIED:20230828T184032Z
UID:1949-1647456300-1647463500@sjya.org
SUMMARY:Mission Point YA
DESCRIPTION:The Mission Point Young Adults group is a collection of individuals ages 18-30 who desire to dive into the Word of God in order to grow a stronger\, deeper bond with our creator. Every week we come together to inductively study a passage in the Bible by Observing\, Interpreting and finding ways to Apply it into our own lives. We share this journey with each other\, diving into adulthood and the unique challenges this time in our lives presents. We meet every Wednesday from 6:45PM to 8:45\, with an optional time of prayer afterwards. We’d love to see you this week! \nIf you have any questions\, (general or meeting place) text Josh at 609-231-1221
URL:https://sjya.org/event/mission-point-ya-13/
LOCATION:Mission Point Church\, 900 W. New York Avenue\, Somers Point\, NJ\, 08244\, United States
CATEGORIES:Fellowship & Message,Groups
ATTACH;FMTTYPE=image/png:https://sjya.org/wp-content/uploads/2021/10/MissionPointYoungAdults.png
ORGANIZER;CN="Mission Point YA":MAILTO:info@missionpointchurch.com
END:VEVENT
BEGIN:VEVENT
DTSTART;TZID=UTC:20220919T190000
DTEND;TZID=UTC:20220919T203000
DTSTAMP:20260425T120841
CREATED:20220901T170958Z
LAST-MODIFIED:20220906T160754Z
UID:2220-1663614000-1663619400@sjya.org
SUMMARY:The Porch - Local Watch Party
DESCRIPTION:The Porch watch party – The Porch is a huge young adults gathering in Dallas\, TX. We typically watch last Tuesday’s message! Video starts at 7 at the Ocean City Tabernacle\, but sign up for updates\, as we sometimes gather at 6:30 for games and fellowship. \nJoin the GroupMe for more information! https://groupme.com/join_group/88295940/MfCRy9Q2 \n  \n 
URL:https://sjya.org/event/the-porch-local-watch-party-2022-09-20/
LOCATION:OC Tabernacle\, 550 Wesley Ave\, Ocean City\, NJ\, 08226\, United States
CATEGORIES:Fellowship & Message
ATTACH;FMTTYPE=image/jpeg:https://sjya.org/wp-content/uploads/2022/09/ThePorch_WatchParty_OCTabernacle.jpg
ORGANIZER;CN="SJYA":MAILTO:southjersey.youngadults@gmail.com
END:VEVENT
BEGIN:VEVENT
DTSTART;TZID=UTC:20220925T183000
DTEND;TZID=UTC:20220925T203000
DTSTAMP:20260425T120841
CREATED:20220903T002625Z
LAST-MODIFIED:20220906T162927Z
UID:2379-1664130600-1664137800@sjya.org
SUMMARY:Resonate Worship Night
DESCRIPTION:It is a time to gather and lift up one voice to worship Jesus; to pursue relationships with one another and grow as a generation who is hungry for more of the Lord; to glorify God for all that He is doing in and through us with other young adults in the area. ONE SUNDAY\, EVERY OTHER MONTH. \nWHO WE ARE\nResonate is not the product of one single church. Instead\, we are the combined effort of multiple churches coming together with one purpose: To unite the body of Christ through worship and prayer. \n 
URL:https://sjya.org/event/resonate-worship-night-4/
LOCATION:Calvary Church Delran\, 317 Conrow Road\, Delran\, NJ\, 08075\, United States
CATEGORIES:Worship
ATTACH;FMTTYPE=image/jpeg:https://sjya.org/wp-content/uploads/2015/09/ResonateWorshipNJ_2.jpg
ORGANIZER;CN="SJYA":MAILTO:southjersey.youngadults@gmail.com
END:VEVENT
BEGIN:VEVENT
DTSTART;TZID=UTC:20220924T183000
DTEND;TZID=UTC:20220924T210000
DTSTAMP:20260425T120841
CREATED:20220308T013821Z
LAST-MODIFIED:20220923T020758Z
UID:2126-1664044200-1664053200@sjya.org
SUMMARY:Coram Deo
DESCRIPTION:20-30 somethings young adult group meeting the 3rd Saturday of every month at Sojourn Community Church in Egg Harbor City. Join us for prayer\, worship and fellowship. Join the GroupMe text chat for more information. \nhttps://groupme.com/join_group/65456268/7SOEnZJE \n  \n  \n  \n  \n 
URL:https://sjya.org/event/coram-deo-7-2022-05-21-2022-09-17/
LOCATION:Sojourn Community Church\, 247 N Genoa Avenue\, Egg Harbor City\, NJ\, 08215\, United States
CATEGORIES:Fellowship & Message,Groups
ATTACH;FMTTYPE=image/jpeg:https://sjya.org/wp-content/uploads/2022/03/CoramDeo_092422_LiveClue.jpg
END:VEVENT
BEGIN:VEVENT
DTSTART;TZID=UTC:20220923T183000
DTEND;TZID=UTC:20220923T200000
DTSTAMP:20260425T120841
CREATED:20220923T022135Z
LAST-MODIFIED:20230828T190057Z
UID:2671-1663957800-1663963200@sjya.org
SUMMARY:Wellspring YA
DESCRIPTION:Ages 18-28 \nContact Pastor Joey: joestoop@gmail.com
URL:https://sjya.org/event/wellspring-ya/
LOCATION:Wellspring Church\, 601 Babcock Road\, Mays Landing\, NJ\, 08330\, United States
CATEGORIES:Fellowship & Message,Groups
ATTACH;FMTTYPE=image/jpeg:https://sjya.org/wp-content/uploads/2022/09/Young-Adult-Main.jpg
ORGANIZER;CN="Wellspring Church Young Adults":MAILTO:joestoop@gmail.com
END:VEVENT
BEGIN:VEVENT
DTSTART;TZID=UTC:20220316T184500
DTEND;TZID=UTC:20220316T204500
DTSTAMP:20260425T120841
CREATED:20220308T020631Z
LAST-MODIFIED:20230828T184032Z
UID:1949-1647456300-1647463500@sjya.org
SUMMARY:Mission Point YA
DESCRIPTION:The Mission Point Young Adults group is a collection of individuals ages 18-30 who desire to dive into the Word of God in order to grow a stronger\, deeper bond with our creator. Every week we come together to inductively study a passage in the Bible by Observing\, Interpreting and finding ways to Apply it into our own lives. We share this journey with each other\, diving into adulthood and the unique challenges this time in our lives presents. We meet every Wednesday from 6:45PM to 8:45\, with an optional time of prayer afterwards. We’d love to see you this week! \nIf you have any questions\, (general or meeting place) text Josh at 609-231-1221
URL:https://sjya.org/event/mission-point-ya-13/
LOCATION:Mission Point Church\, 900 W. New York Avenue\, Somers Point\, NJ\, 08244\, United States
CATEGORIES:Fellowship & Message,Groups
ATTACH;FMTTYPE=image/png:https://sjya.org/wp-content/uploads/2021/10/MissionPointYoungAdults.png
ORGANIZER;CN="Mission Point YA":MAILTO:info@missionpointchurch.com
END:VEVENT
BEGIN:VEVENT
DTSTART;TZID=UTC:20220919T190000
DTEND;TZID=UTC:20220919T203000
DTSTAMP:20260425T120841
CREATED:20220901T170958Z
LAST-MODIFIED:20220906T160754Z
UID:2220-1663614000-1663619400@sjya.org
SUMMARY:The Porch - Local Watch Party
DESCRIPTION:The Porch watch party – The Porch is a huge young adults gathering in Dallas\, TX. We typically watch last Tuesday’s message! Video starts at 7 at the Ocean City Tabernacle\, but sign up for updates\, as we sometimes gather at 6:30 for games and fellowship. \nJoin the GroupMe for more information! https://groupme.com/join_group/88295940/MfCRy9Q2 \n  \n 
URL:https://sjya.org/event/the-porch-local-watch-party-2022-09-20/
LOCATION:OC Tabernacle\, 550 Wesley Ave\, Ocean City\, NJ\, 08226\, United States
CATEGORIES:Fellowship & Message
ATTACH;FMTTYPE=image/jpeg:https://sjya.org/wp-content/uploads/2022/09/ThePorch_WatchParty_OCTabernacle.jpg
ORGANIZER;CN="SJYA":MAILTO:southjersey.youngadults@gmail.com
END:VEVENT
BEGIN:VEVENT
DTSTART;TZID=UTC:20220918T183000
DTEND;TZID=UTC:20220918T210000
DTSTAMP:20260425T120841
CREATED:20220928T013908Z
LAST-MODIFIED:20230828T184249Z
UID:2687-1663525800-1663534800@sjya.org
SUMMARY:New Life YA
DESCRIPTION:Young Adults is New Life Assemblys ministry for 18-30 year olds. Our goal is to help with the transition from the teenage years into being an adult by building a community of faith around each person. \nSundays 6:30-9pm \n\nPastor Sway (Hector J. Figueroa-Gonzalez) \n\n\nSway@nlanj.com \n\n  \n 
URL:https://sjya.org/event/new-life-ya-3/
LOCATION:New Life Assembly\, 5071 Fernwood Ave\, Egg Harbor Township\, NJ\, 08234\, United States
CATEGORIES:Groups
ATTACH;FMTTYPE=image/jpeg:https://sjya.org/wp-content/uploads/2022/09/NewLifeAssemblyYoungAdults_TheWay.jpeg
ORGANIZER;CN="New Life YA":MAILTO:sway@nlanj.com
END:VEVENT
BEGIN:VEVENT
DTSTART;TZID=UTC:20220521T183000
DTEND;TZID=UTC:20220521T210000
DTSTAMP:20260425T120841
CREATED:20220308T013821Z
LAST-MODIFIED:20220906T155320Z
UID:2122-1653157800-1653166800@sjya.org
SUMMARY:Coram Deo
DESCRIPTION:20-30 somethings young adult group meeting the 3rd Saturday of every month at Sojourn Community Church in Egg Harbor City. Join us for prayer\, worship and fellowship. Join the GroupMe text chat for more information. \nhttps://groupme.com/join_group/65456268/7SOEnZJE \n  \n  \n 
URL:https://sjya.org/event/coram-deo-7-2022-05-21/
LOCATION:Sojourn Community Church\, 247 N Genoa Avenue\, Egg Harbor City\, NJ\, 08215\, United States
CATEGORIES:Fellowship & Message,Groups
ATTACH;FMTTYPE=image/jpeg:https://sjya.org/wp-content/uploads/2015/09/CoremDeo_Easter2021.jpg
END:VEVENT
BEGIN:VEVENT
DTSTART;TZID=UTC:20220316T184500
DTEND;TZID=UTC:20220316T204500
DTSTAMP:20260425T120841
CREATED:20220308T020631Z
LAST-MODIFIED:20230828T184032Z
UID:1949-1647456300-1647463500@sjya.org
SUMMARY:Mission Point YA
DESCRIPTION:The Mission Point Young Adults group is a collection of individuals ages 18-30 who desire to dive into the Word of God in order to grow a stronger\, deeper bond with our creator. Every week we come together to inductively study a passage in the Bible by Observing\, Interpreting and finding ways to Apply it into our own lives. We share this journey with each other\, diving into adulthood and the unique challenges this time in our lives presents. We meet every Wednesday from 6:45PM to 8:45\, with an optional time of prayer afterwards. We’d love to see you this week! \nIf you have any questions\, (general or meeting place) text Josh at 609-231-1221
URL:https://sjya.org/event/mission-point-ya-13/
LOCATION:Mission Point Church\, 900 W. New York Avenue\, Somers Point\, NJ\, 08244\, United States
CATEGORIES:Fellowship & Message,Groups
ATTACH;FMTTYPE=image/png:https://sjya.org/wp-content/uploads/2021/10/MissionPointYoungAdults.png
ORGANIZER;CN="Mission Point YA":MAILTO:info@missionpointchurch.com
END:VEVENT
BEGIN:VEVENT
DTSTART;TZID=UTC:20220719T190000
DTEND;TZID=UTC:20220719T203000
DTSTAMP:20260425T120841
CREATED:20220901T170958Z
LAST-MODIFIED:20220906T163204Z
UID:2181-1658257200-1658262600@sjya.org
SUMMARY:The Porch - Local Watch Party
DESCRIPTION:The Porch watch party – The Porch is a huge young adults gathering in Dallas\, TX. We typically watch last Tuesday’s message! Video starts at 7 at the Ocean City Tabernacle\, but sign up for updates\, as we sometimes gather at 6:30 for games and fellowship. \nJoin the GroupMe for more information! https://groupme.com/join_group/88295940/MfCRy9Q2 \n  \n 
URL:https://sjya.org/event/the-porch-local-watch-party/
LOCATION:OC Tabernacle\, 550 Wesley Ave\, Ocean City\, NJ\, 08226\, United States
CATEGORIES:Fellowship & Message
ATTACH;FMTTYPE=image/jpeg:https://sjya.org/wp-content/uploads/2022/09/ThePorch_WatchParty_OCTabernacle.jpg
ORGANIZER;CN="SJYA":MAILTO:southjersey.youngadults@gmail.com
END:VEVENT
BEGIN:VEVENT
DTSTART;TZID=UTC:20220316T184500
DTEND;TZID=UTC:20220316T204500
DTSTAMP:20260425T120841
CREATED:20220308T020631Z
LAST-MODIFIED:20230828T184032Z
UID:1949-1647456300-1647463500@sjya.org
SUMMARY:Mission Point YA
DESCRIPTION:The Mission Point Young Adults group is a collection of individuals ages 18-30 who desire to dive into the Word of God in order to grow a stronger\, deeper bond with our creator. Every week we come together to inductively study a passage in the Bible by Observing\, Interpreting and finding ways to Apply it into our own lives. We share this journey with each other\, diving into adulthood and the unique challenges this time in our lives presents. We meet every Wednesday from 6:45PM to 8:45\, with an optional time of prayer afterwards. We’d love to see you this week! \nIf you have any questions\, (general or meeting place) text Josh at 609-231-1221
URL:https://sjya.org/event/mission-point-ya-13/
LOCATION:Mission Point Church\, 900 W. New York Avenue\, Somers Point\, NJ\, 08244\, United States
CATEGORIES:Fellowship & Message,Groups
ATTACH;FMTTYPE=image/png:https://sjya.org/wp-content/uploads/2021/10/MissionPointYoungAdults.png
ORGANIZER;CN="Mission Point YA":MAILTO:info@missionpointchurch.com
END:VEVENT
BEGIN:VEVENT
DTSTART;TZID=UTC:20220719T190000
DTEND;TZID=UTC:20220719T203000
DTSTAMP:20260425T120841
CREATED:20220901T170958Z
LAST-MODIFIED:20220906T163204Z
UID:2181-1658257200-1658262600@sjya.org
SUMMARY:The Porch - Local Watch Party
DESCRIPTION:The Porch watch party – The Porch is a huge young adults gathering in Dallas\, TX. We typically watch last Tuesday’s message! Video starts at 7 at the Ocean City Tabernacle\, but sign up for updates\, as we sometimes gather at 6:30 for games and fellowship. \nJoin the GroupMe for more information! https://groupme.com/join_group/88295940/MfCRy9Q2 \n  \n 
URL:https://sjya.org/event/the-porch-local-watch-party/
LOCATION:OC Tabernacle\, 550 Wesley Ave\, Ocean City\, NJ\, 08226\, United States
CATEGORIES:Fellowship & Message
ATTACH;FMTTYPE=image/jpeg:https://sjya.org/wp-content/uploads/2022/09/ThePorch_WatchParty_OCTabernacle.jpg
ORGANIZER;CN="SJYA":MAILTO:southjersey.youngadults@gmail.com
END:VEVENT
BEGIN:VEVENT
DTSTART;TZID=UTC:20220904T183000
DTEND;TZID=UTC:20220904T210000
DTSTAMP:20260425T120841
CREATED:20220901T210159Z
LAST-MODIFIED:20230828T184209Z
UID:2277-1662316200-1662325200@sjya.org
SUMMARY:New Life YA
DESCRIPTION:Young Adults is New Life Assemblys ministry for 18-30 year olds. Our goal is to help with the transition from the teenage years into being an adult by building a community of faith around each person. \nSundays 6:30-9pm \n\nPastor Sway (Hector J. Figueroa-Gonzalez) \n\n\nSway@nlanj.com \n\n  \n 
URL:https://sjya.org/event/new-life-ya/
LOCATION:New Life Assembly\, 5071 Fernwood Ave\, Egg Harbor Township\, NJ\, 08234\, United States
CATEGORIES:Groups
ATTACH;FMTTYPE=image/webp:https://sjya.org/wp-content/uploads/2022/09/NewLifeAssembly_YoungAdults.webp
ORGANIZER;CN="New Life YA":MAILTO:sway@nlanj.com
END:VEVENT
BEGIN:VEVENT
DTSTART;TZID=UTC:20220903T173000
DTEND;TZID=UTC:20220903T193000
DTSTAMP:20260425T120841
CREATED:20220903T003610Z
LAST-MODIFIED:20221113T005059Z
UID:2390-1662226200-1662233400@sjya.org
SUMMARY:OG Hangout
DESCRIPTION:Come join the 25-35+ sub-group on a night out at the OC Boardwalk. Mini golf and dinner! \nWe get together once a month for activities like dinners\, game nights\, bonfires etc. \n 
URL:https://sjya.org/event/og-hangout/
LOCATION:SJYA\, Ocean City\, NJ\, 08226\, United States
CATEGORIES:Fellowship & Fun
ATTACH;FMTTYPE=image/jpeg:https://sjya.org/wp-content/uploads/2022/09/090522_OGBoardwalkHangout.jpg
ORGANIZER;CN="SJYA":MAILTO:southjersey.youngadults@gmail.com
END:VEVENT
BEGIN:VEVENT
DTSTART;TZID=UTC:20220316T184500
DTEND;TZID=UTC:20220316T204500
DTSTAMP:20260425T120841
CREATED:20220308T020631Z
LAST-MODIFIED:20230828T184032Z
UID:1949-1647456300-1647463500@sjya.org
SUMMARY:Mission Point YA
DESCRIPTION:The Mission Point Young Adults group is a collection of individuals ages 18-30 who desire to dive into the Word of God in order to grow a stronger\, deeper bond with our creator. Every week we come together to inductively study a passage in the Bible by Observing\, Interpreting and finding ways to Apply it into our own lives. We share this journey with each other\, diving into adulthood and the unique challenges this time in our lives presents. We meet every Wednesday from 6:45PM to 8:45\, with an optional time of prayer afterwards. We’d love to see you this week! \nIf you have any questions\, (general or meeting place) text Josh at 609-231-1221
URL:https://sjya.org/event/mission-point-ya-13/
LOCATION:Mission Point Church\, 900 W. New York Avenue\, Somers Point\, NJ\, 08244\, United States
CATEGORIES:Fellowship & Message,Groups
ATTACH;FMTTYPE=image/png:https://sjya.org/wp-content/uploads/2021/10/MissionPointYoungAdults.png
ORGANIZER;CN="Mission Point YA":MAILTO:info@missionpointchurch.com
END:VEVENT
BEGIN:VEVENT
DTSTART;TZID=UTC:20220719T190000
DTEND;TZID=UTC:20220719T203000
DTSTAMP:20260425T120841
CREATED:20220901T170958Z
LAST-MODIFIED:20220906T163204Z
UID:2181-1658257200-1658262600@sjya.org
SUMMARY:The Porch - Local Watch Party
DESCRIPTION:The Porch watch party – The Porch is a huge young adults gathering in Dallas\, TX. We typically watch last Tuesday’s message! Video starts at 7 at the Ocean City Tabernacle\, but sign up for updates\, as we sometimes gather at 6:30 for games and fellowship. \nJoin the GroupMe for more information! https://groupme.com/join_group/88295940/MfCRy9Q2 \n  \n 
URL:https://sjya.org/event/the-porch-local-watch-party/
LOCATION:OC Tabernacle\, 550 Wesley Ave\, Ocean City\, NJ\, 08226\, United States
CATEGORIES:Fellowship & Message
ATTACH;FMTTYPE=image/jpeg:https://sjya.org/wp-content/uploads/2022/09/ThePorch_WatchParty_OCTabernacle.jpg
ORGANIZER;CN="SJYA":MAILTO:southjersey.youngadults@gmail.com
END:VEVENT
BEGIN:VEVENT
DTSTART;TZID=UTC:20220423T180000
DTEND;TZID=UTC:20220423T203000
DTSTAMP:20260425T120841
CREATED:20220906T160953Z
LAST-MODIFIED:20220906T160953Z
UID:2642-1650736800-1650745800@sjya.org
SUMMARY:The Hub
DESCRIPTION:Connecting young adults (ages 18-33) with Jesus and each other through authentic community\, and challenging them to believe\, belong\, and become the church. Text @coastalya to 81010 to be added to our Remind app for text updates! \nStay tuned for what we will be speaking on! \n  \n 
URL:https://sjya.org/event/the-hub-6/
LOCATION:Landmark\, 300 E 8th Street\, Ocean City\, NJ\, 08226\, United States
ATTACH;FMTTYPE=image/jpeg:https://sjya.org/wp-content/uploads/2021/10/Hub.jpg
ORGANIZER;CN="The Hub":MAILTO:hello@thelandmark.church
END:VEVENT
BEGIN:VEVENT
DTSTART;TZID=UTC:20220316T184500
DTEND;TZID=UTC:20220316T204500
DTSTAMP:20260425T120841
CREATED:20220308T020631Z
LAST-MODIFIED:20230828T184032Z
UID:1949-1647456300-1647463500@sjya.org
SUMMARY:Mission Point YA
DESCRIPTION:The Mission Point Young Adults group is a collection of individuals ages 18-30 who desire to dive into the Word of God in order to grow a stronger\, deeper bond with our creator. Every week we come together to inductively study a passage in the Bible by Observing\, Interpreting and finding ways to Apply it into our own lives. We share this journey with each other\, diving into adulthood and the unique challenges this time in our lives presents. We meet every Wednesday from 6:45PM to 8:45\, with an optional time of prayer afterwards. We’d love to see you this week! \nIf you have any questions\, (general or meeting place) text Josh at 609-231-1221
URL:https://sjya.org/event/mission-point-ya-13/
LOCATION:Mission Point Church\, 900 W. New York Avenue\, Somers Point\, NJ\, 08244\, United States
CATEGORIES:Fellowship & Message,Groups
ATTACH;FMTTYPE=image/png:https://sjya.org/wp-content/uploads/2021/10/MissionPointYoungAdults.png
ORGANIZER;CN="Mission Point YA":MAILTO:info@missionpointchurch.com
END:VEVENT
BEGIN:VEVENT
DTSTART;TZID=UTC:20220719T190000
DTEND;TZID=UTC:20220719T203000
DTSTAMP:20260425T120841
CREATED:20220901T170958Z
LAST-MODIFIED:20220906T163204Z
UID:2181-1658257200-1658262600@sjya.org
SUMMARY:The Porch - Local Watch Party
DESCRIPTION:The Porch watch party – The Porch is a huge young adults gathering in Dallas\, TX. We typically watch last Tuesday’s message! Video starts at 7 at the Ocean City Tabernacle\, but sign up for updates\, as we sometimes gather at 6:30 for games and fellowship. \nJoin the GroupMe for more information! https://groupme.com/join_group/88295940/MfCRy9Q2 \n  \n 
URL:https://sjya.org/event/the-porch-local-watch-party/
LOCATION:OC Tabernacle\, 550 Wesley Ave\, Ocean City\, NJ\, 08226\, United States
CATEGORIES:Fellowship & Message
ATTACH;FMTTYPE=image/jpeg:https://sjya.org/wp-content/uploads/2022/09/ThePorch_WatchParty_OCTabernacle.jpg
ORGANIZER;CN="SJYA":MAILTO:southjersey.youngadults@gmail.com
END:VEVENT
BEGIN:VEVENT
DTSTART;TZID=UTC:20220521T183000
DTEND;TZID=UTC:20220521T210000
DTSTAMP:20260425T120841
CREATED:20220308T013821Z
LAST-MODIFIED:20220906T155320Z
UID:2122-1653157800-1653166800@sjya.org
SUMMARY:Coram Deo
DESCRIPTION:20-30 somethings young adult group meeting the 3rd Saturday of every month at Sojourn Community Church in Egg Harbor City. Join us for prayer\, worship and fellowship. Join the GroupMe text chat for more information. \nhttps://groupme.com/join_group/65456268/7SOEnZJE \n  \n  \n 
URL:https://sjya.org/event/coram-deo-7-2022-05-21/
LOCATION:Sojourn Community Church\, 247 N Genoa Avenue\, Egg Harbor City\, NJ\, 08215\, United States
CATEGORIES:Fellowship & Message,Groups
ATTACH;FMTTYPE=image/jpeg:https://sjya.org/wp-content/uploads/2015/09/CoremDeo_Easter2021.jpg
END:VEVENT
BEGIN:VEVENT
DTSTART;TZID=UTC:20220820T183000
DTEND;TZID=UTC:20220820T210000
DTSTAMP:20260425T120841
CREATED:20220308T013821Z
LAST-MODIFIED:20220923T020840Z
UID:2125-1661020200-1661029200@sjya.org
SUMMARY:Coram Deo
DESCRIPTION:20-30 somethings young adult group meeting the 3rd Saturday of every month at Sojourn Community Church in Egg Harbor City. Join us for prayer\, worship and fellowship. Join the GroupMe text chat for more information. \nhttps://groupme.com/join_group/65456268/7SOEnZJE \n  \n 
URL:https://sjya.org/event/coram-deo-7-2022-05-21-2022-08-20/
LOCATION:Sojourn Community Church\, 247 N Genoa Avenue\, Egg Harbor City\, NJ\, 08215\, United States
CATEGORIES:Fellowship & Message,Groups
ATTACH;FMTTYPE=image/jpeg:https://sjya.org/wp-content/uploads/2022/03/CoramDeo_082022_Forgiveness.jpg
END:VEVENT
BEGIN:VEVENT
DTSTART;TZID=UTC:20220819T190000
DTEND;TZID=UTC:20220820T110000
DTSTAMP:20260425T120841
CREATED:20220903T004743Z
LAST-MODIFIED:20220903T005617Z
UID:2398-1660935600-1660993200@sjya.org
SUMMARY:Supernatural Revival @ the Love Center
DESCRIPTION:A night of revival for all area churches at the Love Center Church in AC. \n 
URL:https://sjya.org/event/supernatural-revival-the-love-center/
LOCATION:The Love Center Church\, 2002-2006 E. Riverside Drive\, Atlantic City\, NJ\, 08401\, United States
CATEGORIES:Fellowship & Message,Worship
ATTACH;FMTTYPE=image/jpeg:https://sjya.org/wp-content/uploads/2022/09/Trailblaz_SupernaturalRevival_081922.jpg
ORGANIZER;CN="SJYA":MAILTO:southjersey.youngadults@gmail.com
END:VEVENT
BEGIN:VEVENT
DTSTART;TZID=UTC:20220316T184500
DTEND;TZID=UTC:20220316T204500
DTSTAMP:20260425T120841
CREATED:20220308T020631Z
LAST-MODIFIED:20230828T184032Z
UID:1949-1647456300-1647463500@sjya.org
SUMMARY:Mission Point YA
DESCRIPTION:The Mission Point Young Adults group is a collection of individuals ages 18-30 who desire to dive into the Word of God in order to grow a stronger\, deeper bond with our creator. Every week we come together to inductively study a passage in the Bible by Observing\, Interpreting and finding ways to Apply it into our own lives. We share this journey with each other\, diving into adulthood and the unique challenges this time in our lives presents. We meet every Wednesday from 6:45PM to 8:45\, with an optional time of prayer afterwards. We’d love to see you this week! \nIf you have any questions\, (general or meeting place) text Josh at 609-231-1221
URL:https://sjya.org/event/mission-point-ya-13/
LOCATION:Mission Point Church\, 900 W. New York Avenue\, Somers Point\, NJ\, 08244\, United States
CATEGORIES:Fellowship & Message,Groups
ATTACH;FMTTYPE=image/png:https://sjya.org/wp-content/uploads/2021/10/MissionPointYoungAdults.png
ORGANIZER;CN="Mission Point YA":MAILTO:info@missionpointchurch.com
END:VEVENT
BEGIN:VEVENT
DTSTART;TZID=UTC:20220719T190000
DTEND;TZID=UTC:20220719T203000
DTSTAMP:20260425T120841
CREATED:20220901T170958Z
LAST-MODIFIED:20220906T163204Z
UID:2181-1658257200-1658262600@sjya.org
SUMMARY:The Porch - Local Watch Party
DESCRIPTION:The Porch watch party – The Porch is a huge young adults gathering in Dallas\, TX. We typically watch last Tuesday’s message! Video starts at 7 at the Ocean City Tabernacle\, but sign up for updates\, as we sometimes gather at 6:30 for games and fellowship. \nJoin the GroupMe for more information! https://groupme.com/join_group/88295940/MfCRy9Q2 \n  \n 
URL:https://sjya.org/event/the-porch-local-watch-party/
LOCATION:OC Tabernacle\, 550 Wesley Ave\, Ocean City\, NJ\, 08226\, United States
CATEGORIES:Fellowship & Message
ATTACH;FMTTYPE=image/jpeg:https://sjya.org/wp-content/uploads/2022/09/ThePorch_WatchParty_OCTabernacle.jpg
ORGANIZER;CN="SJYA":MAILTO:southjersey.youngadults@gmail.com
END:VEVENT
BEGIN:VEVENT
DTSTART;TZID=UTC:20220402T180000
DTEND;TZID=UTC:20220402T203000
DTSTAMP:20260425T120841
CREATED:20220308T013020Z
LAST-MODIFIED:20220906T155443Z
UID:1919-1648922400-1648931400@sjya.org
SUMMARY:The Hub
DESCRIPTION:Connecting young adults (ages 18-33) with Jesus and each other through authentic community\, and challenging them to believe\, belong\, and become the church. Text @coastalya to 81010 to be added to our Remind app for text updates! \nStay tuned for what we will be speaking on! \n  \n 
URL:https://sjya.org/event/the-hub-6/
LOCATION:Landmark\, 300 E 8th Street\, Ocean City\, NJ\, 08226\, United States
CATEGORIES:Fellowship & Message,Groups
ATTACH;FMTTYPE=image/jpeg:https://sjya.org/wp-content/uploads/2021/10/Hub.jpg
ORGANIZER;CN="The Hub":MAILTO:hello@thelandmark.church
END:VEVENT
END:VCALENDAR